BEGIN:VCALENDAR
VERSION:2.0
PRODID:-//hacksw/handcal//NONSGML v1.0//EN
BEGIN:VEVENT
SUMMARY:Cours Pilates Celine avec ballon
UID:cb6f54cb-4ee8-4419-bb4e-59d81021177a
DTSTART:20260324T171500Z
DTEND:20260324T181500Z
LOCATION:Localisation   
CATEGORIES:Sportif
STATUS:
DESCRIPTION:<p>Pensez a amener votre ballon!</p>
URL;VALUE=URI:https://gv-estantens.sportsregions.fr/evenements/2026/03/24/cours-pilates-celine-avec-ballon-2390827
END:VEVENT
END:VCALENDAR
